BEGIN:VCALENDAR
VERSION:2.0
PRODID:-//Squarespace Inc/Squarespace 6//v6//EN
BEGIN:VEVENT
UID:5d442c660c5000000172322e@squarespace.com
DTSTAMP:20200213T054320Z
DTSTART:20191112T030000Z
DTEND:20191112T041500Z
SUMMARY:ABC's Q&amp\;A Live
GEO:-37.824092;144.959015
LOCATION:CH1&2\, Level 2\, Crown Conference Centre\, 8 Whiteman Street\, So
 uthbank VIC 3006
END:VEVENT
END:VCALENDAR
