BEGIN:VCALENDAR
VERSION:2.0
PRODID:-//Squarespace Inc/Squarespace 6//v6//EN
BEGIN:VEVENT
UID:5d943bf6d5847b0bd6b4b487@squarespace.com
DTSTAMP:20191029T034131Z
DTSTART:20191112T043000Z
DTEND:20191112T053000Z
SUMMARY: Il-lumina-ting the Business of Creativity
GEO:-37.82353;144.958095
LOCATION:M11\, Level 1\, Crown Conference Centre\, 8 Whiteman St\, Southban
 k\, Australia
END:VEVENT
END:VCALENDAR
