BEGIN:VCALENDAR
VERSION:2.0
PRODID:-//Squarespace Inc/Squarespace 6//v6//EN
BEGIN:VEVENT
UID:5d0edfe074b8d50001b9107e@squarespace.com
DTSTAMP:20200213T054846Z
DTSTART:20191112T041500Z
DTEND:20191112T053000Z
SUMMARY:Networking break
GEO:-37.824092;144.959015
LOCATION:Foyer\, Level 2\, Crown Conference Centre\, 8 Whiteman Street\, So
 uthbank VIC 3006
END:VEVENT
END:VCALENDAR
