BEGIN:VCALENDAR
VERSION:2.0
PRODID:-//Squarespace Inc/Squarespace 6//v6//EN
BEGIN:VEVENT
UID:5d4650a553ea28000111a0a5@squarespace.com
DTSTAMP:20200213T060011Z
DTSTART:20191112T073000Z
DTEND:20191112T093000Z
SUMMARY:Opening Night Drinks
GEO:-37.815091;144.96924
LOCATION:Spice Market Melbourne\, Beaney Lane\, Melbourne\, VIC\, 3004\, Au
 stralia
END:VEVENT
END:VCALENDAR
