BEGIN:VCALENDAR
VERSION:2.0
PRODID:-//Squarespace Inc/Squarespace 6//v6//EN
BEGIN:VEVENT
UID:5d44239988aabb00017cc283@squarespace.com
DTSTAMP:20200213T052811Z
DTSTART:20191112T020000Z
DTEND:20191112T024500Z
SUMMARY:Welcome
GEO:-37.824092;144.959015
LOCATION:CH1&2\, Level 2\, Crown Conference Centre\, 8 Whiteman Street\, So
 uthbank VIC 3006
END:VEVENT
END:VCALENDAR
