BEGIN:VCALENDAR
VERSION:2.0
PRODID:-//Squarespace Inc/Squarespace 6//v6//EN
BEGIN:VEVENT
UID:5d9af2187e19f6412afad78c@squarespace.com
DTSTAMP:20191107T051049Z
DTSTART:20191112T053000Z
DTEND:20191112T060000Z
SUMMARY:Keynote with Paul Anderson
GEO:-37.824092;144.959015
LOCATION:CH1 + 2\, Level 2\, Crown Conference Centre\, 8 Whiteman Street\, 
 Southbank VIC 3006
END:VEVENT
END:VCALENDAR
