BEGIN:VCALENDAR
VERSION:2.0
PRODID:-//Squarespace Inc/Squarespace 6//v6//EN
BEGIN:VEVENT
UID:5d1d5c5699ed3b00012e95eb@squarespace.com
DTSTAMP:20191007T053619Z
DTSTART:20191111T210000Z
DTEND:20191112T063000Z
SUMMARY:Registration open
GEO:-37.824092;144.959015
LOCATION:Registration Desk\, Ground Floor\, Crown Conference Centre\, 8 Whi
 teman Street\, Southbank VIC 3006
END:VEVENT
END:VCALENDAR
