BEGIN:VCALENDAR
VERSION:2.0
PRODID:-//Squarespace Inc/Squarespace 6//v6//EN
BEGIN:VEVENT
UID:5d93f9f0305d4917a6261368@squarespace.com
DTSTAMP:20191022T035233Z
DTSTART:20191111T230000Z
DTEND:20191112T050000Z
SUMMARY:Experience Rone VR - 10 x Oculus Rift
GEO:-37.824092;144.959015
LOCATION:Foyer\, Ground Floor\, Crown Conference Centre\, 8 Whiteman Street
 \, Southbank VIC 3006
END:VEVENT
END:VCALENDAR
