BEGIN:VCALENDAR
VERSION:2.0
PRODID:-//Squarespace Inc/Squarespace 6//v6//EN
BEGIN:VEVENT
UID:5d9466448150ce0213c182cd@squarespace.com
DTSTAMP:20191022T035329Z
DTSTART:20191112T220000Z
DTEND:20191112T224500Z
SUMMARY:Karen Palmer - The Future of Perception
GEO:-37.824092;144.959015
LOCATION:CH1\, Level 2\, Crown Conference Centre\, 8 Whiteman Street\, Sout
 hbank VIC 3006
END:VEVENT
END:VCALENDAR
