BEGIN:VCALENDAR
VERSION:2.0
PRODID:-//swoogo.com//NONSGML kigkonsult.se iCalcreator 2.41.90//
CALSCALE:GREGORIAN
UID:35623038-3536-4334-a335-366165626264
BEGIN:VEVENT
UID:0e4147512cc35bd0759bb8147db2c8763a59c1ba@swoogo.com
DTSTAMP:20260421T104242Z
DESCRIPTION:SCREEN FOREVER is back and bigger than ever with five days of i
 nspiration\, connection and deal-making. Join us on the Gold Coast for thr
 ee days of inspirational sessions\, local market meetings and high-energy 
 networking and social events\, then head online to connect with buyers fro
 m around the globe for an extended virtual edition of Australia's biggest 
 content market - SPA Connect.
DTSTART:20230502T223000Z
DTEND:20230510T133000Z
LAST-MODIFIED:20260421T104242Z
LOCATION:The Star Event Centre\, Casino Dr\, Broadbeach QLD 4218\, Australi
 a
SEQUENCE:0
STATUS:CONFIRMED
SUMMARY:SCREEN FOREVER 37
TRANSP:OPAQUE
X-ALT-DESC;FMTTYPE=text/html:<p>SCREEN FOREVER is back and bigger than ever
  with five days of inspiration\, connection and deal-making. Join us on th
 e Gold Coast for three days of inspirational sessions\, local market meeti
 ngs and high-energy networking and social events\, then head online to con
 nect with buyers from around the globe for an extended virtual edition of 
 Australia's biggest content market - SPA Connect.</p>
BEGIN:VALARM
UID:36313232-6233-4063-a532-666630306133
ACTION:DISPLAY
DESCRIPTION:SCREEN FOREVER is back and bigger than ever with five days of i
 nspiration\, connection and deal-making. Join us on the Gold Coast for thr
 ee days of inspirational sessions\, local market meetings and high-energy 
 networking and social events\, then head online to connect with buyers fro
 m around the globe for an extended virtual edition of Australia's biggest 
 content market - SPA Connect.
TRIGGER:-PT15M
END:VALARM
END:VEVENT
END:VCALENDAR
